BEGIN:VCALENDAR
PRODID:-//HKUST Drupal Platform//EN
VERSION:2.0
BEGIN:VTIMEZONE
TZID:Asia/Hong_Kong
BEGIN:STANDARD
DTSTART:20071104T020000
TZOFFSETFROM:+0700
TZOFFSETTO:+0800
TZNAME:HKT
END:STANDARD
END:VTIMEZONE
BEGIN:VEVENT
DTSTAMP;TZID=Asia/Hong_Kong:20260420T210427
DTSTART;TZID=Asia/Hong_Kong:20200713T000000
DTEND;TZID=Asia/Hong_Kong:20200717T235900
SUMMARY:Global China: Resistance and Adaptation - Summer School - July 2021 
UID:33
END:VEVENT
END:VCALENDAR