BEGIN:VCALENDAR
PRODID:-//HKUST Drupal Platform//EN
VERSION:2.0
BEGIN:VTIMEZONE
TZID:Asia/Hong_Kong
BEGIN:STANDARD
DTSTART:20071104T020000
TZOFFSETFROM:+0700
TZOFFSETTO:+0800
TZNAME:HKT
END:STANDARD
END:VTIMEZONE
BEGIN:VEVENT
DTSTAMP;TZID=Asia/Hong_Kong:20260420T210432
DTSTART;TZID=Asia/Hong_Kong:20250612T160000
DTEND;TZID=Asia/Hong_Kong:20250612T173000
LOCATION:Room 4502 (Lift 25-26), HKUST
SUMMARY:Seditious Voices: Revolution and Information in the Korean War Campaign, 1950-1953
UID:193
END:VEVENT
END:VCALENDAR