BEGIN:VCALENDAR
PRODID:-//HKUST Drupal Platform//EN
VERSION:2.0
BEGIN:VTIMEZONE
TZID:Asia/Hong_Kong
BEGIN:STANDARD
DTSTART:20071104T020000
TZOFFSETFROM:+0700
TZOFFSETTO:+0800
TZNAME:HKT
END:STANDARD
END:VTIMEZONE
BEGIN:VEVENT
DTSTAMP;TZID=Asia/Hong_Kong:20260420T152901
DTSTART;TZID=Asia/Hong_Kong:20231019T133000
DTEND;TZID=Asia/Hong_Kong:20231019T150000
SUMMARY:飄洋過海：“國際寫作計畫”（IWP）, 中國創意寫作學科和世界文學 The Transpacific Flow: “The International Writing Program (IWP),” Creative Writing Programs in China, and World Literature
UID:180
END:VEVENT
END:VCALENDAR