BEGIN:VCALENDAR
PRODID:-//HKUST Drupal Platform//EN
VERSION:2.0
BEGIN:VTIMEZONE
TZID:Asia/Hong_Kong
BEGIN:STANDARD
DTSTART:20071104T020000
TZOFFSETFROM:+0700
TZOFFSETTO:+0800
TZNAME:HKT
END:STANDARD
END:VTIMEZONE
BEGIN:VEVENT
DTSTAMP;TZID=Asia/Hong_Kong:20260425T025915
DTSTART;TZID=Asia/Hong_Kong:20230418T000000
DTEND;TZID=Asia/Hong_Kong:20230418T235900
SUMMARY:記錄片放映: 《蕭軍六記》 及 映後座談會 
UID:166
END:VEVENT
END:VCALENDAR